BEGIN:VCALENDAR
VERSION:2.0
PRODID:gruene-alzenau.de
METHOD:PUBLISH
BEGIN:VTIMEZONE
TZID:Europe/Berlin
X-LIC-LOCATION:Europe/Berlin
BEGIN:DAYLIGHT
TZOFFSETFROM:+0100
TZOFFSETTO:+0200
TZNAME:CEST
DTSTART:19700329T020000
RRULE:FREQ=YEARLY;INTERVAL=1;BYDAY=-1SU;BYMONTH=3
END:DAYLIGHT
BEGIN:STANDARD
TZOFFSETFROM:+0200
TZOFFSETTO:+0100
TZNAME:CET
DTSTART:19701025T030000
RRULE:FREQ=YEARLY;INTERVAL=1;BYDAY=-1SU;BYMONTH=10
END:STANDARD
END:VTIMEZONE
BEGIN:VEVENT
UID:e8cf2c14ad63e437259b9d84d545b5bc@gruene-alzenau.de
URL;VALUE=URI:https://gruene-unterfranken.de/termine/landesjugendkongress
 -in-muenchen/
LOCATION:München
SUMMARY:Landesjugendkongress in München
DESCRIPTION;ALTREP="data:text/html,%3Cp%3EVom%20Freitag%2C%208.%20bis%20S
 onntag%2C%2010.%20Mai%20findet%20in%20M%C3%BCnchen%20der%20Landesjugendko
 ngress%20statt.%3C%2Fp%3E%3Cp%3E%3Ca%20href%3D%22https%3A%2F%2Fgruene-unt
 erfranken.de%2Ftermine%2Flandesjugendkongress-in-muenchen%2F%22%20title%3
 D%22Link%20in%20einem%20neuen%20Tab%20%C3%B6ffnen%22%20target%3D%22_blank
 %22%3EWeitere%20Informationen%26nbsp%3B%3Ci%20class%3D%22fa-solid%20fa-up
 -right-from-square%22%3E%3C%2Fi%3E%3C%2Fa%3E%3C%2Fp%3E":Vom Freitag\, 8. 
 bis Sonntag\, 10. Mai findet in München der Landesjugendkongress statt.W
 eitere Informationen 
CLASS:PUBLIC
DTSTART;TZID=Europe/Berlin:20260508
DTEND;TZID=Europe/Berlin:20260511
DTSTAMP:20260422T094722
END:VEVENT
END:VCALENDAR