BEGIN:VCALENDAR
VERSION:2.0
PRODID:gruene-alzenau.de
METHOD:PUBLISH
BEGIN:VTIMEZONE
TZID:Europe/Berlin
X-LIC-LOCATION:Europe/Berlin
BEGIN:DAYLIGHT
TZOFFSETFROM:+0100
TZOFFSETTO:+0200
TZNAME:CEST
DTSTART:19700329T020000
RRULE:FREQ=YEARLY;INTERVAL=1;BYDAY=-1SU;BYMONTH=3
END:DAYLIGHT
BEGIN:STANDARD
TZOFFSETFROM:+0200
TZOFFSETTO:+0100
TZNAME:CET
DTSTART:19701025T030000
RRULE:FREQ=YEARLY;INTERVAL=1;BYDAY=-1SU;BYMONTH=10
END:STANDARD
END:VTIMEZONE
BEGIN:VEVENT
UID:16743d167df5f73da6d461d5be3fe339@gruene-alzenau.de
URL;VALUE=URI:https://gruene-alzenau.de/termine/gruener-stammtisch-2/
LOCATION:Wanderheim Michelbach Hubert's Wein- und Wanderstube
SUMMARY:GRÜNER Stammtisch
DESCRIPTION;ALTREP="data:text/html,%0A%3Cp%3EAls%20Gr%C3%BCner%20Stadtver
 band%20Alzenau%20laden%20wir%20monatlich%20zu%20unseren%20Stammtischen%20
 ein.%20Jede%2Ar%20ist%20eingeladen%20%28Mitgliedschaft%20nicht%20notwendi
 g%29.%20Eine%20Anmeldung%20ist%20nicht%20notwendig.%20Es%20kann%20%C3%BCb
 er%20alles%20gesprochen%2C%20debattiert%20und%20diskutiert%20werden.%20De
 n%20Themen%20sind%20keine%20Grenzen%20gesetzt.%20Wir%20freuen%20uns%20auf
 %20euch.%3C%2Fp%3E%0A":Als Grüner Stadtverband Alzenau laden wir monatli
 ch zu unseren Stammtischen ein. Jede*r ist eingeladen (Mitgliedschaft nic
 ht notwendig). Eine Anmeldung ist nicht notwendig. Es kann über alles ge
 sprochen\, debattiert und diskutiert werden. Den Themen sind keine Grenze
 n gesetzt. Wir freuen uns auf euch.
CLASS:PUBLIC
DTSTART;TZID=Europe/Berlin:20230505T180000
DTEND;TZID=Europe/Berlin:20230505T230000
DTSTAMP:20260422T091503
END:VEVENT
END:VCALENDAR