BEGIN:VCALENDAR
VERSION:2.0
PRODID:gruene-alzenau.de
METHOD:PUBLISH
BEGIN:VTIMEZONE
TZID:Europe/Berlin
X-LIC-LOCATION:Europe/Berlin
BEGIN:DAYLIGHT
TZOFFSETFROM:+0100
TZOFFSETTO:+0200
TZNAME:CEST
DTSTART:19700329T020000
RRULE:FREQ=YEARLY;INTERVAL=1;BYDAY=-1SU;BYMONTH=3
END:DAYLIGHT
BEGIN:STANDARD
TZOFFSETFROM:+0200
TZOFFSETTO:+0100
TZNAME:CET
DTSTART:19701025T030000
RRULE:FREQ=YEARLY;INTERVAL=1;BYDAY=-1SU;BYMONTH=10
END:STANDARD
END:VTIMEZONE
BEGIN:VEVENT
UID:facb873292033575dc8cdd533fc7fb44@gruene-alzenau.de
URL;VALUE=URI:https://gruene-unterfranken.de/termine/feministischer-kongr
 ess-gruene-bayern-2026/
LOCATION:Impact Hub, Gotzinger Str. 8, 81371 München, München
SUMMARY:Feministischer Kongress GRÜNE Bayern 2026
DESCRIPTION;ALTREP="data:text/html,%3Cp%3EAm%C2%A013.%20Juni%202026%C2%A0
 l%C3%A4dt%20der%20Landesverband%20herzlich%20zum%C2%A0Feministischen%20Ko
 ngress%20von%20B%C3%BCndnis%2090%2FDie%20Gr%C3%BCnen%20Bayern%C2%A0in%20d
 en%20Impact%20Hub%20M%C3%BCnchen%20ein.%20Die%20Veranstaltung%20geht%20vo
 n%2011%20bis%20ca.%2017%20Uhr.%20Eingeladen%20wird%20von%20unserer%20frau
 en-%20und%20vielfaltspolitischen%20Sprecherin%C2%A0Theresa%20Eberlein%C2%
 A0%E2%80%93%20f%C3%BCr%20einen%20Tag%20voller%20Austausch%2C%20Empowermen
 t%20und%20gemeinsamer%20Perspektiven.%3Cbr%20%2F%3E%0A%3Cbr%20%2F%3E%0AFr
 eut%20euch%20auf%20eine%20inspirierende%C2%A0Keynote%20von%20Marina%20Wei
 sband%2C%20spannende%C2%A0Workshops%20zu%20feministischen%20Themen%C2%A0s
 owie%20viel%20Raum%20f%C3%BCr%C2%A0Netzwerken%2C%20Solidarit%C3%A4t%20und
 %20Allyship.%20Gemeinsam%20wollen%20wir%20feministische%20Politik%20weite
 rdenken%20und%20uns%20gegenseitig%20st%C3%A4rken.%3Cbr%20%2F%3E%0A%3Cbr%2
 0%2F%3E%0AEingeladen%20sind%C2%A0alle%20Mitglieder%20von%20B%C3%BCndnis%2
 090%2FDie%20Gr%C3%BCnen%20Bayern%20%E2%80%93%20unabh%C3%A4ngig%20von%20Ge
 schlecht.%20F%C3%BCr%20ein%20veganes%20Mittagessen%20und%20Getr%C3%A4nke%
 20ist%20selbstverst%C3%A4ndlich%20gesorgt.%3Cbr%20%2F%3E%0A%3Cbr%20%2F%3E
 %0AEine%20verbindliche%20Anmeldung%20ist%20ab%20dem%2030.%20April%202026%
 C2%A0unter%20diesem%20Link%20m%C3%B6glich.%C2%A0Bitte%20beachtet%3A%20Die
 %20Teilnehmenden-Anzahl%20ist%20begrenzt.%20Wir%20bitten%20daher%20um%20e
 ine%20Abmeldung%2C%20wenn%20deine%20Teilnahme%20doch%20nicht%20m%C3%B6gli
 ch%20sein%20sollte.%3Cbr%20%2F%3E%0A%3Cbr%20%2F%3E%0ABei%20R%C3%BCckfrage
 n%20rund%20um%20den%20Kongress%20wendet%20euch%20an%C2%A0veranstaltung%5B
 at%5Dgruene-bayern.de%3C%2Fp%3E%3Cp%3E%3Ca%20href%3D%22https%3A%2F%2Fgrue
 ne-unterfranken.de%2Ftermine%2Ffeministischer-kongress-gruene-bayern-2026
 %2F%22%20title%3D%22Link%20in%20einem%20neuen%20Tab%20%C3%B6ffnen%22%20ta
 rget%3D%22_blank%22%3EWeitere%20Informationen%26nbsp%3B%3Ci%20class%3D%22
 fa-solid%20fa-up-right-from-square%22%3E%3C%2Fi%3E%3C%2Fa%3E%3C%2Fp%3E":A
 m 13. Juni 2026 lädt der Landesverband herzlich zum Feministischen Ko
 ngress von Bündnis 90/Die Grünen Bayern in den Impact Hub München ein
 . Die Veranstaltung geht von 11 bis ca. 17 Uhr. Eingeladen wird von unser
 er frauen- und vielfaltspolitischen Sprecherin Theresa Eberlein – fü
 r einen Tag voller Austausch\, Empowerment und gemeinsamer Perspektiven.\
 n\nFreut euch auf eine inspirierende Keynote von Marina Weisband\, spann
 ende Workshops zu feministischen Themen sowie viel Raum für Netzwerke
 n\, Solidarität und Allyship. Gemeinsam wollen wir feministische Politik
  weiterdenken und uns gegenseitig stärken.\n\nEingeladen sind alle Mitg
 lieder von Bündnis 90/Die Grünen Bayern – unabhängig von Geschlecht.
  Für ein veganes Mittagessen und Getränke ist selbstverständlich gesor
 gt.\n\nEine verbindliche Anmeldung ist ab dem 30. April 2026 unter diese
 m Link möglich. Bitte beachtet: Die Teilnehmenden-Anzahl ist begrenzt. 
 Wir bitten daher um eine Abmeldung\, wenn deine Teilnahme doch nicht mög
 lich sein sollte.\n\nBei Rückfragen rund um den Kongress wendet euch an
  veranstaltung[at]gruene-bayern.deWeitere Informationen 
CLASS:PUBLIC
DTSTART;TZID=Europe/Berlin:20260613T110000
DTEND;TZID=Europe/Berlin:20260613T170000
DTSTAMP:20260422T094231
END:VEVENT
END:VCALENDAR