BEGIN:VCALENDAR
VERSION:2.0
PRODID:gruene-alzenau.de
METHOD:PUBLISH
BEGIN:VTIMEZONE
TZID:Europe/Berlin
X-LIC-LOCATION:Europe/Berlin
BEGIN:DAYLIGHT
TZOFFSETFROM:+0100
TZOFFSETTO:+0200
TZNAME:CEST
DTSTART:19700329T020000
RRULE:FREQ=YEARLY;INTERVAL=1;BYDAY=-1SU;BYMONTH=3
END:DAYLIGHT
BEGIN:STANDARD
TZOFFSETFROM:+0200
TZOFFSETTO:+0100
TZNAME:CET
DTSTART:19701025T030000
RRULE:FREQ=YEARLY;INTERVAL=1;BYDAY=-1SU;BYMONTH=10
END:STANDARD
END:VTIMEZONE
BEGIN:VEVENT
UID:9590fc7c40a0c184129c27488eff2436@gruene-alzenau.de
URL;VALUE=URI:https://gruene-unterfranken.de/termine/4-digitales-neumitgl
 iedertreffen/
LOCATION:ONLINE
SUMMARY:4. Digitales Neumitgliedertreffen
DESCRIPTION;ALTREP="data:text/html,%3Cp%3EDer%20Landesverband%20veranstal
 tet%20ein%20digitales%20Neumitgliedertreffen%20f%C3%BCr%20alle%20Neumitgl
 ieder%20in%20Bayern.%20N%C3%A4here%20Infos%20folgen%20noch.%3C%2Fp%3E%3Cp
 %3E%3Ca%20href%3D%22https%3A%2F%2Fgruene-unterfranken.de%2Ftermine%2F4-di
 gitales-neumitgliedertreffen%2F%22%20title%3D%22Link%20in%20einem%20neuen
 %20Tab%20%C3%B6ffnen%22%20target%3D%22_blank%22%3EWeitere%20Informationen
 %26nbsp%3B%3Ci%20class%3D%22fa-solid%20fa-up-right-from-square%22%3E%3C%2
 Fi%3E%3C%2Fa%3E%3C%2Fp%3E":Der Landesverband veranstaltet ein digitales N
 eumitgliedertreffen für alle Neumitglieder in Bayern. Nähere Infos folg
 en noch.Weitere Informationen 
CLASS:PUBLIC
DTSTART;TZID=Europe/Berlin:20261209T190000
DTEND;TZID=Europe/Berlin:20261209T210000
DTSTAMP:20260422T094237
END:VEVENT
END:VCALENDAR